BEGIN:VCALENDAR
VERSION:2.0
PRODID:-//Músicas Encantadas - ECPv6.15.20//NONSGML v1.0//EN
CALSCALE:GREGORIAN
METHOD:PUBLISH
X-WR-CALNAME:Músicas Encantadas
X-ORIGINAL-URL:https://www.musicasencantadas.com
X-WR-CALDESC:Eventos para Músicas Encantadas
REFRESH-INTERVAL;VALUE=DURATION:PT1H
X-Robots-Tag:noindex
X-PUBLISHED-TTL:PT1H
BEGIN:VTIMEZONE
TZID:UTC
BEGIN:STANDARD
TZOFFSETFROM:+0000
TZOFFSETTO:+0000
TZNAME:UTC
DTSTART:20240101T000000
END:STANDARD
END:VTIMEZONE
BEGIN:VEVENT
DTSTART;TZID=UTC:20250208T080000
DTEND;TZID=UTC:20250208T170000
DTSTAMP:20260421T175245
CREATED:20240523T080344Z
LAST-MODIFIED:20240523T080344Z
UID:6901-1739001600-1739034000@www.musicasencantadas.com
SUMMARY:EL MANTEL DE NOA MERINDAD DE CUESTA-URRIA (Burgos)
DESCRIPTION:
URL:https://www.musicasencantadas.com/eventos/el-mantel-de-noa-merindad-de-cuesta-urria-burgos/
END:VEVENT
END:VCALENDAR