BEGIN:VCALENDAR
VERSION:2.0
PRODID:-//Músicas Encantadas - ECPv6.15.20//NONSGML v1.0//EN
CALSCALE:GREGORIAN
METHOD:PUBLISH
X-WR-CALNAME:Músicas Encantadas
X-ORIGINAL-URL:https://www.musicasencantadas.com
X-WR-CALDESC:Eventos para Músicas Encantadas
REFRESH-INTERVAL;VALUE=DURATION:PT1H
X-Robots-Tag:noindex
X-PUBLISHED-TTL:PT1H
BEGIN:VTIMEZONE
TZID:UTC
BEGIN:STANDARD
TZOFFSETFROM:+0000
TZOFFSETTO:+0000
TZNAME:UTC
DTSTART:20240101T000000
END:STANDARD
END:VTIMEZONE
BEGIN:VEVENT
DTSTART;TZID=UTC:20250330T200000
DTEND;TZID=UTC:20250330T220000
DTSTAMP:20260421T103356
CREATED:20250131T081628Z
LAST-MODIFIED:20250131T081628Z
UID:7042-1743364800-1743372000@www.musicasencantadas.com
SUMMARY:COMPAÑÍA MIGUEL ÁNGEL BERNA "REmatadera" en VILLANUEVA DE GÁLLEGO
DESCRIPTION:
URL:https://www.musicasencantadas.com/eventos/compania-miguel-angel-berna-rematadera-en-villanueva-de-gallego/
END:VEVENT
END:VCALENDAR