BEGIN:VCALENDAR
VERSION:2.0
PRODID:-//Músicas Encantadas - ECPv6.15.20//NONSGML v1.0//EN
CALSCALE:GREGORIAN
METHOD:PUBLISH
X-ORIGINAL-URL:https://www.musicasencantadas.com
X-WR-CALDESC:Eventos para Músicas Encantadas
REFRESH-INTERVAL;VALUE=DURATION:PT1H
X-Robots-Tag:noindex
X-PUBLISHED-TTL:PT1H
BEGIN:VTIMEZONE
TZID:UTC
BEGIN:STANDARD
TZOFFSETFROM:+0000
TZOFFSETTO:+0000
TZNAME:UTC
DTSTART:20240101T000000
END:STANDARD
END:VTIMEZONE
BEGIN:VEVENT
DTSTART;TZID=UTC:20251007T190000
DTEND;TZID=UTC:20251007T200000
DTSTAMP:20260420T231710
CREATED:20250606T114021Z
LAST-MODIFIED:20250606T114021Z
UID:7138-1759863600-1759867200@www.musicasencantadas.com
SUMMARY:O´CAROLAN 30 AÑOS plaza del Pilar Zaragoza
DESCRIPTION:
URL:https://www.musicasencantadas.com/eventos/ocarolan-30-anos-plaza-del-pilar-zaragoza/
END:VEVENT
END:VCALENDAR