BEGIN:VCALENDAR
VERSION:2.0
PRODID:-//Músicas Encantadas - ECPv6.15.20//NONSGML v1.0//EN
CALSCALE:GREGORIAN
METHOD:PUBLISH
X-WR-CALNAME:Músicas Encantadas
X-ORIGINAL-URL:https://www.musicasencantadas.com
X-WR-CALDESC:Eventos para Músicas Encantadas
REFRESH-INTERVAL;VALUE=DURATION:PT1H
X-Robots-Tag:noindex
X-PUBLISHED-TTL:PT1H
BEGIN:VTIMEZONE
TZID:UTC
BEGIN:STANDARD
TZOFFSETFROM:+0000
TZOFFSETTO:+0000
TZNAME:UTC
DTSTART:20240101T000000
END:STANDARD
END:VTIMEZONE
BEGIN:VEVENT
DTSTART;TZID=UTC:20251007T190000
DTEND;TZID=UTC:20251007T200000
DTSTAMP:20260422T092049
CREATED:20250606T114021Z
LAST-MODIFIED:20250606T114021Z
UID:7138-1759863600-1759867200@www.musicasencantadas.com
SUMMARY:O´CAROLAN 30 AÑOS plaza del Pilar Zaragoza
DESCRIPTION:
URL:https://www.musicasencantadas.com/eventos/ocarolan-30-anos-plaza-del-pilar-zaragoza/
END:VEVENT
BEGIN:VEVENT
DTSTART;TZID=UTC:20251017T210000
DTEND;TZID=UTC:20251017T223000
DTSTAMP:20260422T092049
CREATED:20250313T080423Z
LAST-MODIFIED:20250313T080423Z
UID:7104-1760734800-1760740200@www.musicasencantadas.com
SUMMARY:REMATADERA COMPAÑÍA MIGUEL ÁNGEL BERNA EN MONZÓN
DESCRIPTION:
URL:https://www.musicasencantadas.com/eventos/rematadera-compania-miguel-angel-berna-en-monzon/
END:VEVENT
BEGIN:VEVENT
DTSTART;TZID=UTC:20251018T180000
DTEND;TZID=UTC:20251018T203000
DTSTAMP:20260422T092049
CREATED:20250902T165640Z
LAST-MODIFIED:20250902T165640Z
UID:7164-1760810400-1760819400@www.musicasencantadas.com
SUMMARY:VISITA LITERARIA. con Zootropo teatro
DESCRIPTION:
URL:https://www.musicasencantadas.com/eventos/visita-literaria-con-zootropo-teatro-2/
END:VEVENT
BEGIN:VEVENT
DTSTART;TZID=UTC:20251019T080000
DTEND;TZID=UTC:20251019T170000
DTSTAMP:20260422T092049
CREATED:20250313T080618Z
LAST-MODIFIED:20250313T080618Z
UID:7106-1760860800-1760893200@www.musicasencantadas.com
SUMMARY:SONIDOS EN EL MUSEO ZOOTROPO TEATRO
DESCRIPTION:
URL:https://www.musicasencantadas.com/eventos/sonidos-en-el-museo-zootropo-teatro/
END:VEVENT
BEGIN:VEVENT
DTSTART;TZID=UTC:20251025T190000
DTEND;TZID=UTC:20251025T210000
DTSTAMP:20260422T092049
CREATED:20250606T114254Z
LAST-MODIFIED:20250606T114254Z
UID:7140-1761418800-1761426000@www.musicasencantadas.com
SUMMARY:EL MANTEL DE NOA en Vinaceite(Teruel)
DESCRIPTION:
URL:https://www.musicasencantadas.com/eventos/el-mantel-de-noa-en-vinaceiteteruel/
END:VEVENT
END:VCALENDAR